BEGIN:VCALENDAR
VERSION:2.0
PRODID:-//Milestones Day School &amp; Transitions Program - ECPv6.15.20//NONSGML v1.0//EN
CALSCALE:GREGORIAN
METHOD:PUBLISH
X-WR-CALNAME:Milestones Day School &amp; Transitions Program
X-ORIGINAL-URL:https://advancingmilestones.com
X-WR-CALDESC:Events for Milestones Day School &amp; Transitions Program
REFRESH-INTERVAL;VALUE=DURATION:PT1H
X-Robots-Tag:noindex
X-PUBLISHED-TTL:PT1H
BEGIN:VTIMEZONE
TZID:America/New_York
BEGIN:DAYLIGHT
TZOFFSETFROM:-0500
TZOFFSETTO:-0400
TZNAME:EDT
DTSTART:20240310T070000
END:DAYLIGHT
BEGIN:STANDARD
TZOFFSETFROM:-0400
TZOFFSETTO:-0500
TZNAME:EST
DTSTART:20241103T060000
END:STANDARD
BEGIN:DAYLIGHT
TZOFFSETFROM:-0500
TZOFFSETTO:-0400
TZNAME:EDT
DTSTART:20250309T070000
END:DAYLIGHT
BEGIN:STANDARD
TZOFFSETFROM:-0400
TZOFFSETTO:-0500
TZNAME:EST
DTSTART:20251102T060000
END:STANDARD
BEGIN:DAYLIGHT
TZOFFSETFROM:-0500
TZOFFSETTO:-0400
TZNAME:EDT
DTSTART:20260308T070000
END:DAYLIGHT
BEGIN:STANDARD
TZOFFSETFROM:-0400
TZOFFSETTO:-0500
TZNAME:EST
DTSTART:20261101T060000
END:STANDARD
BEGIN:DAYLIGHT
TZOFFSETFROM:-0500
TZOFFSETTO:-0400
TZNAME:EDT
DTSTART:20270314T070000
END:DAYLIGHT
BEGIN:STANDARD
TZOFFSETFROM:-0400
TZOFFSETTO:-0500
TZNAME:EST
DTSTART:20271107T060000
END:STANDARD
END:VTIMEZONE
BEGIN:VEVENT
DTSTART;TZID=America/New_York:20250411T100000
DTEND;TZID=America/New_York:20250411T113000
DTSTAMP:20260423T070606
CREATED:20250102T144408Z
LAST-MODIFIED:20250327T133640Z
UID:63357-1744365600-1744371000@advancingmilestones.com
SUMMARY:Onsite Group Information Session and Tour
DESCRIPTION:Please secure your attendance by completing this form: \nMilestones Group Tour/Information Session Registration Form \nInformational tours are open to anyone looking \nto learn more about Milestones. \n*Tours are not intended for students* \n10-10:15am: Introductions \n10:15-11 am: General program overview / Q & A  \n11 am-11:30 am: Tour of facility \nMilestones is located at 410 Totten Pond Road Waltham\, MA 02451 \nBuilding #410 (This is an office Park\, not a typical school building) \nPlease proceed to our lobby on the second floor \nWe look forward to your visit – if not at this tour\, the next!
URL:https://advancingmilestones.com/event/onsite-group-information-session-and-tour-7/
LOCATION:Milestones School\, 410 Totten Pond Road\, Floor 2\, Waltham\, MA\, 02451\, United States
CATEGORIES:Event
END:VEVENT
BEGIN:VEVENT
DTSTART;TZID=America/New_York:20250509T100000
DTEND;TZID=America/New_York:20250509T113000
DTSTAMP:20260423T070606
CREATED:20250102T144557Z
LAST-MODIFIED:20250502T183145Z
UID:63360-1746784800-1746790200@advancingmilestones.com
SUMMARY:Onsite Group Information Session and Tour - this tour is at capacity
DESCRIPTION:THIS TOUR IS AT CAPACITY.  FOR YOUR CONVENIENCE WE HAVE ADDED ADDITIONAL TOURS. \nPLEASE DO NOT REGISTER FOR THIS TOUR \nPlease secure your attendance by completing this form: \nMilestones Group Tour/Information Session Registration Form \nInformational tours are open to anyone looking \nto learn more about Milestones. \n*Tours are not intended for students* \n10-10:15am: Introductions \n10:15-11 am: General program overview / Q & A  \n11 am-11:30 am: Tour of facility \nMilestones is located at 410 Totten Pond Road Waltham\, MA 02451 \nBuilding #410 (This is an office Park\, not a typical school building) \nPlease proceed to our lobby on the second floor \nWe look forward to your visit – if not at this tour\, the next!
URL:https://advancingmilestones.com/event/onsite-group-information-session-and-tour-8/
LOCATION:Milestones School\, 410 Totten Pond Road\, Floor 2\, Waltham\, MA\, 02451\, United States
CATEGORIES:Event
END:VEVENT
BEGIN:VEVENT
DTSTART;TZID=America/New_York:20250519T100000
DTEND;TZID=America/New_York:20250519T113000
DTSTAMP:20260423T070606
CREATED:20250502T183426Z
LAST-MODIFIED:20250502T183427Z
UID:63572-1747648800-1747654200@advancingmilestones.com
SUMMARY:Onsite Group Information Session and Tour
DESCRIPTION:Please secure your attendance by completing this form: \nMilestones Group Tour/Information Session Registration Form \nInformational tours are open to anyone looking \nto learn more about Milestones. \n*Tours are not intended for students* \n10-10:15am: Introductions \n10:15-11 am: General program overview / Q & A  \n11 am-11:30 am: Tour of facility \nMilestones is located at 410 Totten Pond Road Waltham\, MA 02451 \nBuilding #410 (This is an office Park\, not a typical school building) \nPlease proceed to our lobby on the second floor \nWe look forward to your visit – if not at this tour\, the next!
URL:https://advancingmilestones.com/event/onsite-group-information-session-and-tour-10/
LOCATION:Milestones School\, 410 Totten Pond Road\, Floor 2\, Waltham\, MA\, 02451\, United States
END:VEVENT
BEGIN:VEVENT
DTSTART;TZID=America/New_York:20250604T100000
DTEND;TZID=America/New_York:20250604T113000
DTSTAMP:20260423T070606
CREATED:20250102T144719Z
LAST-MODIFIED:20250522T131106Z
UID:63362-1749031200-1749036600@advancingmilestones.com
SUMMARY:Onsite Group Information Session and Tour/ELEMENTARY & MIDDLE SCHOOL ONLY
DESCRIPTION:Please secure your attendance by completing this form: \nMilestones Group Tour/Information Session Registration Form \nInformational tours are open to anyone looking \nto learn more about Milestones. \n*Tours are not intended for students* \n10-10:15am: Introductions \n10:15-11 am: General program overview / Q & A  \n11 am-11:30 am: Tour of facility \nMilestones is located at 410 Totten Pond Road Waltham\, MA 02451 \nBuilding #410 (This is an office Park\, not a typical school building) \nPlease proceed to our lobby on the second floor \nWe look forward to your visit – if not at this tour\, the next!
URL:https://advancingmilestones.com/event/onsite-group-information-session-and-tour-9/
LOCATION:Milestones School\, 410 Totten Pond Road\, Floor 2\, Waltham\, MA\, 02451\, United States
END:VEVENT
BEGIN:VEVENT
DTSTART;TZID=America/New_York:20250707T100000
DTEND;TZID=America/New_York:20250707T113000
DTSTAMP:20260423T070606
CREATED:20250606T193955Z
LAST-MODIFIED:20250609T113909Z
UID:63636-1751882400-1751887800@advancingmilestones.com
SUMMARY:Onsite Group Information Session and Tour for HS or Post-High School ONLY
DESCRIPTION:Please secure your attendance by completing this form: \nMilestones Group Tour/Information Session Registration Form \nInformational tours are open to anyone looking \nto learn more about Milestones. \n*Tours are not intended for students* \n10-10:15am: Introductions \n10:15-11 am: General program overview / Q & A  \n11 am-11:30 am: Tour of facility \nMilestones is located at 410 Totten Pond Road Waltham\, MA 02451 \nBuilding #410 (This is an office Park\, not a typical school building) \nPlease proceed to our lobby on the second floor \nWe look forward to your visit – if not at this tour\, the next!
URL:https://advancingmilestones.com/event/onsite-group-information-session-and-tour-11/
LOCATION:MA
CATEGORIES:Open House/Group Tours
END:VEVENT
BEGIN:VEVENT
DTSTART;TZID=America/New_York:20250813T100000
DTEND;TZID=America/New_York:20250813T113000
DTSTAMP:20260423T070606
CREATED:20250714T152254Z
LAST-MODIFIED:20250714T152254Z
UID:63695-1755079200-1755084600@advancingmilestones.com
SUMMARY:Onsite Group Information Session and Tour
DESCRIPTION:Please secure your attendance by completing this form: \nMilestones Group Tour/Information Session Registration Form \nInformational tours are open to anyone looking \nto learn more about Milestones. \n*Tours are not intended for students* \n10-10:15am: Introductions \n10:15-11 am: General program overview / Q & A  \n11 am-11:30 am: Tour of facility \nMilestones is located at 410 Totten Pond Road Waltham\, MA 02451 \nBuilding #410 (This is an office Park\, not a typical school building) \nPlease proceed to our lobby on the second floor \nWe look forward to your visit – if not at this tour\, the next!
URL:https://advancingmilestones.com/event/onsite-group-information-session-and-tour-12/
LOCATION:Milestones School\, 410 Totten Pond Road\, Floor 2\, Waltham\, MA\, 02451\, United States
END:VEVENT
BEGIN:VEVENT
DTSTART;TZID=America/New_York:20250910T100000
DTEND;TZID=America/New_York:20250910T113000
DTSTAMP:20260423T070606
CREATED:20250714T152554Z
LAST-MODIFIED:20250714T152813Z
UID:63697-1757498400-1757503800@advancingmilestones.com
SUMMARY:Onsite Group Information Session and Tour
DESCRIPTION:Please secure your attendance by completing this form: \nMilestones Group Tour/Information Session Registration Form \nInformational tours are open to anyone looking \nto learn more about Milestones. \n*Tours are not intended for students* \n10-10:15am: Introductions \n10:15-11 am: General program overview / Q & A  \n11 am-11:30 am: Tour of facility \nMilestones is located at 410 Totten Pond Road Waltham\, MA 02451 \nBuilding #410 (This is an office Park\, not a typical school building) \nPlease proceed to our lobby on the second floor \nWe look forward to your visit – if not at this tour\, the next!
URL:https://advancingmilestones.com/event/onsite-group-information-session-and-tour-13/
LOCATION:Milestones School\, 410 Totten Pond Road\, Floor 2\, Waltham\, MA\, 02451\, United States
END:VEVENT
BEGIN:VEVENT
DTSTART;TZID=America/New_York:20250924T100000
DTEND;TZID=America/New_York:20250924T113000
DTSTAMP:20260423T070606
CREATED:20250714T153147Z
LAST-MODIFIED:20250714T153147Z
UID:63699-1758708000-1758713400@advancingmilestones.com
SUMMARY:Onsite Group Information Session and Tour
DESCRIPTION:Please secure your attendance by completing this form: \nMilestones Group Tour/Information Session Registration Form \nInformational tours are open to anyone looking \nto learn more about Milestones. \n*Tours are not intended for students* \n10-10:15am: Introductions \n10:15-11 am: General program overview / Q & A  \n11 am-11:30 am: Tour of facility \nMilestones is located at 410 Totten Pond Road Waltham\, MA 02451 \nBuilding #410 (This is an office Park\, not a typical school building) \nPlease proceed to our lobby on the second floor \nWe look forward to your visit – if not at this tour\, the next!
URL:https://advancingmilestones.com/event/onsite-group-information-session-and-tour-14/
LOCATION:Milestones School\, 410 Totten Pond Road\, Floor 2\, Waltham\, MA\, 02451\, United States
END:VEVENT
BEGIN:VEVENT
DTSTART;TZID=America/New_York:20251024T100000
DTEND;TZID=America/New_York:20251024T113000
DTSTAMP:20260423T070606
CREATED:20250714T153502Z
LAST-MODIFIED:20251007T135439Z
UID:63701-1761300000-1761305400@advancingmilestones.com
SUMMARY:Onsite Group Information Session and Tour
DESCRIPTION:Please secure your attendance by completing this form: \nMilestones Group Tour/Information Session Registration Form \nInformational tours are open to anyone looking \nto learn more about Milestones. \n*Tours are not intended for students* \n10-10:15am: Introductions \n10:15-11 am: General program overview / Q & A  \n11 am-11:30 am: Tour of facility \nMilestones is located at 410 Totten Pond Road Waltham\, MA 02451 \nBuilding #410 (This is an office Park\, not a typical school building) \nPlease proceed to our lobby on the second floor \nWe look forward to your visit – if not at this tour\, the next!
URL:https://advancingmilestones.com/event/onsite-group-information-session-and-tour-15/
LOCATION:Milestones School\, 410 Totten Pond Road\, Floor 2\, Waltham\, MA\, 02451\, United States
END:VEVENT
BEGIN:VEVENT
DTSTART;TZID=America/New_York:20251114T100000
DTEND;TZID=America/New_York:20251114T113000
DTSTAMP:20260423T070606
CREATED:20251016T183457Z
LAST-MODIFIED:20251016T183457Z
UID:63882-1763114400-1763119800@advancingmilestones.com
SUMMARY:Onsite Group Information Session and Tour
DESCRIPTION:Please secure your attendance by completing this form: \nMilestones Group Tour/Information Session Registration Form \nInformational tours are open to anyone looking \nto learn more about Milestones. \n*Tours are not intended for students* \n10-10:15am: Introductions \n10:15-11 am: General program overview / Q & A  \n11 am-11:30 am: Tour of facility \nMilestones is located at 410 Totten Pond Road Waltham\, MA 02451 \nBuilding #410 (This is an office Park\, not a typical school building) \nPlease proceed to our lobby on the second floor \nWe look forward to your visit – if not at this tour\, the next!
URL:https://advancingmilestones.com/event/onsite-group-information-session-and-tour-16/
LOCATION:Milestones School\, 410 Totten Pond Road\, Floor 2\, Waltham\, MA\, 02451\, United States
END:VEVENT
BEGIN:VEVENT
DTSTART;TZID=America/New_York:20251212T100000
DTEND;TZID=America/New_York:20251212T113000
DTSTAMP:20260423T070606
CREATED:20251017T140310Z
LAST-MODIFIED:20251017T140310Z
UID:63886-1765533600-1765539000@advancingmilestones.com
SUMMARY:Onsite Group Information Session and Tour
DESCRIPTION:Please secure your attendance by completing this form: \nMilestones Group Tour/Information Session Registration Form \nInformational tours are open to anyone looking \nto learn more about Milestones. \n*Tours are not intended for students* \n10-10:15am: Introductions \n10:15-11 am: General program overview / Q & A  \n11 am-11:30 am: Tour of facility \nMilestones is located at 410 Totten Pond Road Waltham\, MA 02451 \nBuilding #410 (This is an office Park\, not a typical school building) \nPlease proceed to our lobby on the second floor \nWe look forward to your visit – if not at this tour\, the next!
URL:https://advancingmilestones.com/event/onsite-group-information-session-and-tour-17/
LOCATION:Milestones School\, 410 Totten Pond Road\, Floor 2\, Waltham\, MA\, 02451\, United States
END:VEVENT
BEGIN:VEVENT
DTSTART;TZID=America/New_York:20260123T100000
DTEND;TZID=America/New_York:20260123T113000
DTSTAMP:20260423T070606
CREATED:20251217T181240Z
LAST-MODIFIED:20251217T181331Z
UID:63964-1769162400-1769167800@advancingmilestones.com
SUMMARY:Onsite Group Information Session and Tour
DESCRIPTION:Please secure your attendance by completing this form: \nMilestones Group Tour/Information Session Registration Form \nInformational tours are open to anyone looking \nto learn more about Milestones. \n*Tours are not intended for students* \n10-10:15am: Introductions \n10:15-11 am: General program overview / Q & A  \n11 am-11:30 am: Tour of facility \nMilestones is located at 410 Totten Pond Road Waltham\, MA 02451 \nBuilding #410 (This is an office Park\, not a typical school building) \nPlease proceed to our lobby on the second floor \nWe look forward to your visit – if not at this tour\, the next!
URL:https://advancingmilestones.com/event/onsite-group-information-session-and-tour-18/
LOCATION:Milestones School\, 410 Totten Pond Road\, Floor 2\, Waltham\, MA\, 02451\, United States
CATEGORIES:Event
END:VEVENT
BEGIN:VEVENT
DTSTART;TZID=America/New_York:20260213T100000
DTEND;TZID=America/New_York:20260213T113000
DTSTAMP:20260423T070606
CREATED:20251217T181632Z
LAST-MODIFIED:20251217T181632Z
UID:63966-1770976800-1770982200@advancingmilestones.com
SUMMARY:Onsite Group Information Session and Tour
DESCRIPTION:Please secure your attendance by completing this form: \nMilestones Group Tour/Information Session Registration Form \nInformational tours are open to anyone looking \nto learn more about Milestones. \n*Tours are not intended for students* \n10-10:15am: Introductions \n10:15-11 am: General program overview / Q & A  \n11 am-11:30 am: Tour of facility \nMilestones is located at 410 Totten Pond Road Waltham\, MA 02451 \nBuilding #410 (This is an office Park\, not a typical school building) \nPlease proceed to our lobby on the second floor \nWe look forward to your visit – if not at this tour\, the next!
URL:https://advancingmilestones.com/event/onsite-group-information-session-and-tour-19/
LOCATION:Milestones School\, 410 Totten Pond Road\, Floor 2\, Waltham\, MA\, 02451\, United States
CATEGORIES:Open House/Group Tours
END:VEVENT
BEGIN:VEVENT
DTSTART;TZID=America/New_York:20260313T100000
DTEND;TZID=America/New_York:20260313T113000
DTSTAMP:20260423T070606
CREATED:20251217T181811Z
LAST-MODIFIED:20251217T181811Z
UID:63968-1773396000-1773401400@advancingmilestones.com
SUMMARY:Onsite Group Information Session and Tour
DESCRIPTION:Please secure your attendance by completing this form: \nMilestones Group Tour/Information Session Registration Form \nInformational tours are open to anyone looking \nto learn more about Milestones. \n*Tours are not intended for students* \n10-10:15am: Introductions \n10:15-11 am: General program overview / Q & A  \n11 am-11:30 am: Tour of facility \nMilestones is located at 410 Totten Pond Road Waltham\, MA 02451 \nBuilding #410 (This is an office Park\, not a typical school building) \nPlease proceed to our lobby on the second floor \nWe look forward to your visit – if not at this tour\, the next!
URL:https://advancingmilestones.com/event/onsite-group-information-session-and-tour-20/
LOCATION:Milestones School\, 410 Totten Pond Road\, Floor 2\, Waltham\, MA\, 02451\, United States
CATEGORIES:Open House/Group Tours
END:VEVENT
BEGIN:VEVENT
DTSTART;TZID=America/New_York:20260417T100000
DTEND;TZID=America/New_York:20260417T113000
DTSTAMP:20260423T070606
CREATED:20251217T181934Z
LAST-MODIFIED:20251217T181934Z
UID:63970-1776420000-1776425400@advancingmilestones.com
SUMMARY:Onsite Group Information Session and Tour
DESCRIPTION:Please secure your attendance by completing this form: \nMilestones Group Tour/Information Session Registration Form \nInformational tours are open to anyone looking \nto learn more about Milestones. \n*Tours are not intended for students* \n10-10:15am: Introductions \n10:15-11 am: General program overview / Q & A  \n11 am-11:30 am: Tour of facility \nMilestones is located at 410 Totten Pond Road Waltham\, MA 02451 \nBuilding #410 (This is an office Park\, not a typical school building) \nPlease proceed to our lobby on the second floor \nWe look forward to your visit – if not at this tour\, the next!
URL:https://advancingmilestones.com/event/onsite-group-information-session-and-tour-21/
LOCATION:Milestones School\, 410 Totten Pond Road\, Floor 2\, Waltham\, MA\, 02451\, United States
CATEGORIES:Open House/Group Tours
END:VEVENT
BEGIN:VEVENT
DTSTART;TZID=America/New_York:20260515T100000
DTEND;TZID=America/New_York:20260515T113000
DTSTAMP:20260423T070606
CREATED:20251217T182103Z
LAST-MODIFIED:20251217T182103Z
UID:63972-1778839200-1778844600@advancingmilestones.com
SUMMARY:Onsite Group Information Session and Tour
DESCRIPTION:Please secure your attendance by completing this form: \nMilestones Group Tour/Information Session Registration Form \nInformational tours are open to anyone looking \nto learn more about Milestones. \n*Tours are not intended for students* \n10-10:15am: Introductions \n10:15-11 am: General program overview / Q & A  \n11 am-11:30 am: Tour of facility \nMilestones is located at 410 Totten Pond Road Waltham\, MA 02451 \nBuilding #410 (This is an office Park\, not a typical school building) \nPlease proceed to our lobby on the second floor \nWe look forward to your visit – if not at this tour\, the next!
URL:https://advancingmilestones.com/event/onsite-group-information-session-and-tour-22/
LOCATION:Milestones School\, 410 Totten Pond Road\, Floor 2\, Waltham\, MA\, 02451\, United States
CATEGORIES:Open House/Group Tours
END:VEVENT
END:VCALENDAR