BEGIN:VCALENDAR
VERSION:2.0
PRODID:-//Milestones Day School &amp; Transitions Program - ECPv6.15.20//NONSGML v1.0//EN
CALSCALE:GREGORIAN
METHOD:PUBLISH
X-WR-CALNAME:Milestones Day School &amp; Transitions Program
X-ORIGINAL-URL:https://advancingmilestones.com
X-WR-CALDESC:Events for Milestones Day School &amp; Transitions Program
REFRESH-INTERVAL;VALUE=DURATION:PT1H
X-Robots-Tag:noindex
X-PUBLISHED-TTL:PT1H
BEGIN:VTIMEZONE
TZID:America/New_York
BEGIN:DAYLIGHT
TZOFFSETFROM:-0500
TZOFFSETTO:-0400
TZNAME:EDT
DTSTART:20220313T070000
END:DAYLIGHT
BEGIN:STANDARD
TZOFFSETFROM:-0400
TZOFFSETTO:-0500
TZNAME:EST
DTSTART:20221106T060000
END:STANDARD
BEGIN:DAYLIGHT
TZOFFSETFROM:-0500
TZOFFSETTO:-0400
TZNAME:EDT
DTSTART:20230312T070000
END:DAYLIGHT
BEGIN:STANDARD
TZOFFSETFROM:-0400
TZOFFSETTO:-0500
TZNAME:EST
DTSTART:20231105T060000
END:STANDARD
BEGIN:DAYLIGHT
TZOFFSETFROM:-0500
TZOFFSETTO:-0400
TZNAME:EDT
DTSTART:20240310T070000
END:DAYLIGHT
BEGIN:STANDARD
TZOFFSETFROM:-0400
TZOFFSETTO:-0500
TZNAME:EST
DTSTART:20241103T060000
END:STANDARD
END:VTIMEZONE
BEGIN:VEVENT
DTSTART;TZID=America/New_York:20231110T100000
DTEND;TZID=America/New_York:20231110T110000
DTSTAMP:20260422T205445
CREATED:20231006T134235Z
LAST-MODIFIED:20231006T134235Z
UID:62824-1699610400-1699614000@advancingmilestones.com
SUMMARY:Onsite Group Tour/Information Session
DESCRIPTION:Please secure your attendance by completing this form: \nMilestones Group Tour/Information Session Registration Form \nInformational tours are open to anyone looking \nto learn more about Milestones. \n*Tours are not intended for students* \n10-10:15am: Introductions \n10:15-10:40 am: General program overview / Q & A  \n10:40-11 am: Tour of facility \nMilestones is located at 410 Totten Pond Road Waltham\, MA 02451 \nBuilding #410 (This is an office Park\, not a typical school building) \nPlease proceed to our lobby on the second floor \nWe look forward to your visit – if not at this tour\, the next!
URL:https://advancingmilestones.com/event/onsite-group-tour-information-session-9/
LOCATION:Milestones School\, 410 Totten Pond Road\, Floor 2\, Waltham\, MA\, 02451\, United States
END:VEVENT
BEGIN:VEVENT
DTSTART;TZID=America/New_York:20231013T100000
DTEND;TZID=America/New_York:20231013T110000
DTSTAMP:20260422T205445
CREATED:20230804T153445Z
LAST-MODIFIED:20230804T153620Z
UID:62744-1697191200-1697194800@advancingmilestones.com
SUMMARY:Onsite Group Tour/Information Session
DESCRIPTION:Please secure your attendance by completing this form: \nMilestones Group Tour/Information Session Registration Form \nInformational tours are open to anyone looking \nto learn more about Milestones. \n*Tours are not intended for students* \n10-10:15am: Introductions \n10:15-10:40 am: General program overview / Q & A  \n10:40-11 am: Tour of facility \nMilestones is located at 410 Totten Pond Road Waltham\, MA 02451 \nBuilding #410 (This is an office Park\, not a typical school building) \nPlease proceed to our lobby on the second floor \nWe look forward to your visit – if not at this tour\, the next!
URL:https://advancingmilestones.com/event/onsite-group-tour-and-information-session/
LOCATION:Milestones School\, 410 Totten Pond Road\, Floor 2\, Waltham\, MA\, 02451\, United States
END:VEVENT
BEGIN:VEVENT
DTSTART;TZID=America/New_York:20230928T180000
DTEND;TZID=America/New_York:20230928T194500
DTSTAMP:20260422T205445
CREATED:20230914T141726Z
LAST-MODIFIED:20230914T144350Z
UID:62781-1695924000-1695930300@advancingmilestones.com
SUMMARY:Back to School Night
DESCRIPTION:Back To School Night for Parents/Guardians: Thursday\, 9/28 from 6:00 – 7:45pm:\n● On Thursday (9/28) we will host our annual “Back to School Night” event for\nparents/guardians and hope you will be able to participate. The event will take\nplace onsite at Milestones from 6:00 – 7:45pm\, as resuming an onsite event was\nrated as most preferred by parents/guardians in our 2023 annual family survey.\n● Back to School Night is designed to provide families across all grade levels with\nan opportunity to meet the teachers of their child’s core academic classes as well\nas the clinicians who teach therapy groups and support students throughout the\nschool day. Teachers and clinicians will provide an overview of their respective\nclasses and groups\, and all faculty are scheduled to be in attendance. Please keep\nin mind that this evening is specifically for parents/guardians (students are not in\nattendance) and is intended to provide information about programming and\ninstruction and is not designed to discuss individual students’ progress.
URL:https://advancingmilestones.com/event/back-to-school-night/
LOCATION:Milestones School\, 410 Totten Pond Road\, Floor 2\, Waltham\, MA\, 02451\, United States
CATEGORIES:Event
END:VEVENT
BEGIN:VEVENT
DTSTART;TZID=America/New_York:20230908T100000
DTEND;TZID=America/New_York:20230908T110000
DTSTAMP:20260422T205445
CREATED:20230804T143233Z
LAST-MODIFIED:20230804T152859Z
UID:62738-1694167200-1694170800@advancingmilestones.com
SUMMARY:Onsite Group Tour/Information Session
DESCRIPTION:Please secure your attendance by completing this form: \nMilestones Group Tour/Information Session Registration Form \nInformational tours are open to anyone looking \nto learn more about Milestones. \n*Tours are not intended for students* \n10-10:15am: Introductions \n10:15-10:40 am: General program overview / Q & A  \n10:40-11 am: Tour of facility \nMilestones is located at 410 Totten Pond Road Waltham\, MA 02451 \nBuilding #410 (This is an office Park\, not a typical school building) \nPlease proceed to our lobby on the second floor \nWe look forward to your visit – if not at this tour\, the next!
URL:https://advancingmilestones.com/event/onsite-group-tour-information-session-8/
LOCATION:Milestones School\, 410 Totten Pond Road\, Floor 2\, Waltham\, MA\, 02451\, United States
END:VEVENT
BEGIN:VEVENT
DTSTART;TZID=America/New_York:20230811T100000
DTEND;TZID=America/New_York:20230811T110000
DTSTAMP:20260422T205445
CREATED:20230614T121941Z
LAST-MODIFIED:20230614T121941Z
UID:62681-1691748000-1691751600@advancingmilestones.com
SUMMARY:Onsite Group Tour/Information Session
DESCRIPTION:Please secure your attendance by replying to \nRSVP.events@advancingmilestones.com \nInformational tours are open to anyone looking \nto learn more about Milestones. \n*Tours are not intended for students* \n10:00-11:00am: Introductions \n10:15-10:40am: General program overview / Q & A  \n10:40-11:00am: Tour of facility
URL:https://advancingmilestones.com/event/onsite-group-tour-information-session-7/
LOCATION:Milestones School\, 410 Totten Pond Road\, Floor 2\, Waltham\, MA\, 02451\, United States
END:VEVENT
BEGIN:VEVENT
DTSTART;TZID=America/New_York:20230714T100000
DTEND;TZID=America/New_York:20230714T110000
DTSTAMP:20260422T205445
CREATED:20230614T121829Z
LAST-MODIFIED:20230614T121829Z
UID:62679-1689328800-1689332400@advancingmilestones.com
SUMMARY:Onsite Group Tour/Information Session
DESCRIPTION:Please secure your attendance by replying to \nRSVP.events@advancingmilestones.com \nInformational tours are open to anyone looking \nto learn more about Milestones. \n*Tours are not intended for students* \n10:00-11:00am: Introductions \n10:15-10:40am: General program overview / Q & A  \n10:40-11:00am: Tour of facility
URL:https://advancingmilestones.com/event/onsite-group-tour-information-session-4/
LOCATION:Milestones School\, 410 Totten Pond Road\, Floor 2\, Waltham\, MA\, 02451\, United States
END:VEVENT
BEGIN:VEVENT
DTSTART;TZID=America/New_York:20230609T100000
DTEND;TZID=America/New_York:20230609T110000
DTSTAMP:20260422T205445
CREATED:20221215T170352Z
LAST-MODIFIED:20221215T170352Z
UID:62414-1686304800-1686308400@advancingmilestones.com
SUMMARY:Onsite Group Tour/Information Session
DESCRIPTION:Please secure your attendance by replying to \nRSVP.events@advancingmilestones.com \nInformational tours are open to anyone looking \nto learn more about Milestones. \n*Tours are not intended for students* \n10:00-11:00am: Introductions \n10:15-10:40am: General program overview / Q & A  \n10:40-11:00am: Tour of facility
URL:https://advancingmilestones.com/event/onsite-group-tour-information-session-5/
LOCATION:Milestones School\, 410 Totten Pond Road\, Floor 2\, Waltham\, MA\, 02451\, United States
CATEGORIES:Open House/Group Tours
END:VEVENT
BEGIN:VEVENT
DTSTART;VALUE=DATE:20230426
DTEND;VALUE=DATE:20230427
DTSTAMP:20260422T205445
CREATED:20240426T175920Z
LAST-MODIFIED:20231215T145948Z
UID:62478-1682467200-1682553599@advancingmilestones.com
SUMMARY:Picture Day
DESCRIPTION:
URL:https://advancingmilestones.com/event/picture-day/
LOCATION:Milestones School\, 410 Totten Pond Road\, Floor 2\, Waltham\, MA\, 02451\, United States
CATEGORIES:Event
END:VEVENT
BEGIN:VEVENT
DTSTART;TZID=America/New_York:20230414T100000
DTEND;TZID=America/New_York:20230414T110000
DTSTAMP:20260422T205445
CREATED:20221215T165939Z
LAST-MODIFIED:20221215T165939Z
UID:62407-1681466400-1681470000@advancingmilestones.com
SUMMARY:Onsite Group Tour/Information Session
DESCRIPTION:Please secure your attendance by replying to \nRSVP.events@advancingmilestones.com \nInformational tours are open to anyone looking \nto learn more about Milestones. \n*Tours are not intended for students* \n10:00-11:00am: Introductions \n10:15-10:40am: General program overview / Q & A  \n10:40-11:00am: Tour of facility
URL:https://advancingmilestones.com/event/onsite-group-tour-information-session-3/
LOCATION:Milestones School\, 410 Totten Pond Road\, Floor 2\, Waltham\, MA\, 02451\, United States
CATEGORIES:Open House/Group Tours
END:VEVENT
BEGIN:VEVENT
DTSTART;TZID=America/New_York:20230310T100000
DTEND;TZID=America/New_York:20230310T110000
DTSTAMP:20260422T205445
CREATED:20221215T165823Z
LAST-MODIFIED:20230119T170001Z
UID:62405-1678442400-1678446000@advancingmilestones.com
SUMMARY:Onsite Group Tour/Information Session
DESCRIPTION:Please secure your attendance by replying to \nRSVP.events@advancingmilestones.com \nInformational tours are open to anyone looking \nto learn more about Milestones. \n*Tours are not intended for students* \n10:00-10:15am: Introductions \n10:15-10:40am: General program overview / Q & A  \n10:40-11:00am: Tour of facility
URL:https://advancingmilestones.com/event/onsite-group-tour-information-session-2/
LOCATION:Milestones School\, 410 Totten Pond Road\, Floor 2\, Waltham\, MA\, 02451\, United States
CATEGORIES:Open House/Group Tours
END:VEVENT
BEGIN:VEVENT
DTSTART;TZID=America/New_York:20230303T130000
DTEND;TZID=America/New_York:20230303T140000
DTSTAMP:20260422T205445
CREATED:20230119T165138Z
LAST-MODIFIED:20230119T165138Z
UID:62468-1677848400-1677852000@advancingmilestones.com
SUMMARY:Onsite Group Tour/Information Session (Transitions focused)
DESCRIPTION:Please secure your attendance by replying to \nRSVP.events@advancingmilestones.com \nInformational tours are open to anyone looking \nto learn more about Milestones. \n*Tours are not intended for students* \n1-1:15pm: Introductions \n1:15-1:40pm: General Transition program overview / Q & A  \n1:40-2:00pm: Tour of facility concentrating on our Post HS area
URL:https://advancingmilestones.com/event/onsite-group-tour-information-session-transitions-focused/
LOCATION:Milestones School\, 410 Totten Pond Road\, Floor 2\, Waltham\, MA\, 02451\, United States
CATEGORIES:Open House/Group Tours
END:VEVENT
BEGIN:VEVENT
DTSTART;TZID=America/New_York:20230215T093000
DTEND;TZID=America/New_York:20230215T110000
DTSTAMP:20260422T205445
CREATED:20230119T182746Z
LAST-MODIFIED:20230119T182746Z
UID:62473-1676453400-1676458800@advancingmilestones.com
SUMMARY:Winterfest
DESCRIPTION:
URL:https://advancingmilestones.com/event/winterfest/
LOCATION:Milestones School\, 410 Totten Pond Road\, Floor 2\, Waltham\, MA\, 02451\, United States
CATEGORIES:Event
END:VEVENT
BEGIN:VEVENT
DTSTART;TZID=America/New_York:20230210T130000
DTEND;TZID=America/New_York:20230210T140000
DTSTAMP:20260422T205445
CREATED:20230119T164710Z
LAST-MODIFIED:20230119T164710Z
UID:62465-1676034000-1676037600@advancingmilestones.com
SUMMARY:Onsite Group Tour/Information Session
DESCRIPTION:Please secure your attendance by replying to \nRSVP.events@advancingmilestones.com \nInformational tours are open to anyone looking \nto learn more about Milestones. \n*Tours are not intended for students* \n1:00-1:15pm: Introductions \n1:15-1:40pm: General program overview (Elem/MS/HS\, Q & A)  \n1:40-2:00pm: Tour of facility
URL:https://advancingmilestones.com/event/onsite-group-tour-information-session-6/
LOCATION:Milestones School\, 410 Totten Pond Road\, Floor 2\, Waltham\, MA\, 02451\, United States
CATEGORIES:Open House/Group Tours
END:VEVENT
BEGIN:VEVENT
DTSTART;TZID=America/New_York:20230210T100000
DTEND;TZID=America/New_York:20230210T110000
DTSTAMP:20260422T205445
CREATED:20221215T165504Z
LAST-MODIFIED:20230119T165657Z
UID:62403-1676023200-1676026800@advancingmilestones.com
SUMMARY:Onsite Group Tour/Information Session (Transitions focused)
DESCRIPTION:Please secure your attendance by replying to \nRSVP.events@advancingmilestones.com \nInformational tours are open to anyone looking \nto learn more about Milestones. \n*Tours are not intended for students* \n10:00-10:15am: Introductions \n10:15-10:40am: General Transition program overview / Q & A  \n10:40-11:00am: Tour of facility concentrating on our Post HS area
URL:https://advancingmilestones.com/event/onsite-group-tour-information-session/
LOCATION:Milestones School\, 410 Totten Pond Road\, Floor 2\, Waltham\, MA\, 02451\, United States
CATEGORIES:Open House/Group Tours
END:VEVENT
BEGIN:VEVENT
DTSTART;TZID=America/New_York:20230113T100000
DTEND;TZID=America/New_York:20230113T110000
DTSTAMP:20260422T205445
CREATED:20221025T171938Z
LAST-MODIFIED:20221215T170058Z
UID:62267-1673604000-1673607600@advancingmilestones.com
SUMMARY:Onsite Group Tour/Information Session
DESCRIPTION:Please secure your attendance by replying to \nRSVP.events@advancingmilestones.com \nInformational tours are open to anyone looking \nto learn more about Milestones. \n*Tours are not intended for students* \n10:00-11:00am: Introductions \n10:15-10:40am: General program overview / Q & A  \n10:40-11:00am: Tour of facility
URL:https://advancingmilestones.com/event/62267/
LOCATION:Milestones School\, 410 Totten Pond Road\, Floor 2\, Waltham\, MA\, 02451\, United States
CATEGORIES:Open House/Group Tours
END:VEVENT
END:VCALENDAR