BEGIN:VCALENDAR
VERSION:2.0
PRODID:-//Milestones Day School &amp; Transitions Program - ECPv6.15.20//NONSGML v1.0//EN
CALSCALE:GREGORIAN
METHOD:PUBLISH
X-WR-CALNAME:Milestones Day School &amp; Transitions Program
X-ORIGINAL-URL:https://advancingmilestones.com
X-WR-CALDESC:Events for Milestones Day School &amp; Transitions Program
REFRESH-INTERVAL;VALUE=DURATION:PT1H
X-Robots-Tag:noindex
X-PUBLISHED-TTL:PT1H
BEGIN:VTIMEZONE
TZID:America/New_York
BEGIN:DAYLIGHT
TZOFFSETFROM:-0500
TZOFFSETTO:-0400
TZNAME:EDT
DTSTART:20220313T070000
END:DAYLIGHT
BEGIN:STANDARD
TZOFFSETFROM:-0400
TZOFFSETTO:-0500
TZNAME:EST
DTSTART:20221106T060000
END:STANDARD
BEGIN:DAYLIGHT
TZOFFSETFROM:-0500
TZOFFSETTO:-0400
TZNAME:EDT
DTSTART:20230312T070000
END:DAYLIGHT
BEGIN:STANDARD
TZOFFSETFROM:-0400
TZOFFSETTO:-0500
TZNAME:EST
DTSTART:20231105T060000
END:STANDARD
BEGIN:DAYLIGHT
TZOFFSETFROM:-0500
TZOFFSETTO:-0400
TZNAME:EDT
DTSTART:20240310T070000
END:DAYLIGHT
BEGIN:STANDARD
TZOFFSETFROM:-0400
TZOFFSETTO:-0500
TZNAME:EST
DTSTART:20241103T060000
END:STANDARD
END:VTIMEZONE
BEGIN:VEVENT
DTSTART;TZID=America/New_York:20230113T100000
DTEND;TZID=America/New_York:20230113T110000
DTSTAMP:20260423T040058
CREATED:20221025T171938Z
LAST-MODIFIED:20221215T170058Z
UID:62267-1673604000-1673607600@advancingmilestones.com
SUMMARY:Onsite Group Tour/Information Session
DESCRIPTION:Please secure your attendance by replying to \nRSVP.events@advancingmilestones.com \nInformational tours are open to anyone looking \nto learn more about Milestones. \n*Tours are not intended for students* \n10:00-11:00am: Introductions \n10:15-10:40am: General program overview / Q & A  \n10:40-11:00am: Tour of facility
URL:https://advancingmilestones.com/event/62267/
LOCATION:Milestones School\, 410 Totten Pond Road\, Floor 2\, Waltham\, MA\, 02451\, United States
CATEGORIES:Open House/Group Tours
END:VEVENT
END:VCALENDAR