BEGIN:VCALENDAR
VERSION:2.0
PRODID:-//Milestones Day School &amp; Transitions Program - ECPv6.15.20//NONSGML v1.0//EN
CALSCALE:GREGORIAN
METHOD:PUBLISH
X-WR-CALNAME:Milestones Day School &amp; Transitions Program
X-ORIGINAL-URL:https://advancingmilestones.com
X-WR-CALDESC:Events for Milestones Day School &amp; Transitions Program
REFRESH-INTERVAL;VALUE=DURATION:PT1H
X-Robots-Tag:noindex
X-PUBLISHED-TTL:PT1H
BEGIN:VTIMEZONE
TZID:America/New_York
BEGIN:DAYLIGHT
TZOFFSETFROM:-0500
TZOFFSETTO:-0400
TZNAME:EDT
DTSTART:20230312T070000
END:DAYLIGHT
BEGIN:STANDARD
TZOFFSETFROM:-0400
TZOFFSETTO:-0500
TZNAME:EST
DTSTART:20231105T060000
END:STANDARD
BEGIN:DAYLIGHT
TZOFFSETFROM:-0500
TZOFFSETTO:-0400
TZNAME:EDT
DTSTART:20240310T070000
END:DAYLIGHT
BEGIN:STANDARD
TZOFFSETFROM:-0400
TZOFFSETTO:-0500
TZNAME:EST
DTSTART:20241103T060000
END:STANDARD
BEGIN:DAYLIGHT
TZOFFSETFROM:-0500
TZOFFSETTO:-0400
TZNAME:EDT
DTSTART:20250309T070000
END:DAYLIGHT
BEGIN:STANDARD
TZOFFSETFROM:-0400
TZOFFSETTO:-0500
TZNAME:EST
DTSTART:20251102T060000
END:STANDARD
END:VTIMEZONE
BEGIN:VEVENT
DTSTART;TZID=America/New_York:20240315T100000
DTEND;TZID=America/New_York:20240315T110000
DTSTAMP:20260424T023710
CREATED:20231229T180640Z
LAST-MODIFIED:20240306T123930Z
UID:62945-1710496800-1710500400@advancingmilestones.com
SUMMARY:Onsite Group Tour/Information Session - TOUR IS FULL
DESCRIPTION:Please secure your attendance by completing this form: \nMilestones Group Tour/Information Session Registration Form \nInformational tours are open to anyone looking \nto learn more about Milestones. \n*Tours are not intended for students* \n10-10:15am: Introductions \n10:15-10:40 am: General program overview / Q & A  \n10:40-11 am: Tour of facility \nMilestones is located at 410 Totten Pond Road Waltham\, MA 02451 \nBuilding #410 (This is an office Park\, not a typical school building) \nPlease proceed to our lobby on the second floor \nWe look forward to your visit – if not at this tour\, the next!
URL:https://advancingmilestones.com/event/onsite-group-tour-information-session-12/
LOCATION:Milestones School\, 410 Totten Pond Road\, Floor 2\, Waltham\, MA\, 02451\, United States
END:VEVENT
BEGIN:VEVENT
DTSTART;TZID=America/New_York:20240320T093000
DTEND;TZID=America/New_York:20240320T113000
DTSTAMP:20260424T023710
CREATED:20240228T191619Z
LAST-MODIFIED:20240229T153449Z
UID:62990-1710927000-1710934200@advancingmilestones.com
SUMMARY:Winter Fest
DESCRIPTION:
URL:https://advancingmilestones.com/event/winter-fest/
LOCATION:Milestones’ Gymnasium
CATEGORIES:Event
ATTACH;FMTTYPE=image/jpeg:https://advancingmilestones.com/wp-content/uploads/2023/10/Winterfest-2023-68-of-129.jpeg
END:VEVENT
BEGIN:VEVENT
DTSTART;TZID=America/New_York:20240322T100000
DTEND;TZID=America/New_York:20240322T110000
DTSTAMP:20260424T023710
CREATED:20240306T130602Z
LAST-MODIFIED:20240306T130602Z
UID:63016-1711101600-1711105200@advancingmilestones.com
SUMMARY:Onsite Group Tour/Information Session
DESCRIPTION:Please secure your attendance by completing this form: \nMilestones Group Tour/Information Session Registration Form \nInformational tours are open to anyone looking \nto learn more about Milestones. \n*Tours are not intended for students* \n10-10:15am: Introductions \n10:15-10:40 am: General program overview / Q & A  \n10:40-11 am: Tour of facility \nMilestones is located at 410 Totten Pond Road Waltham\, MA 02451 \nBuilding #410 (This is an office Park\, not a typical school building) \nPlease proceed to our lobby on the second floor \nWe look forward to your visit – if not at this tour\, the next!
URL:https://advancingmilestones.com/event/onsite-group-tour-information-session-15/
LOCATION:Milestones School\, 410 Totten Pond Road\, Floor 2\, Waltham\, MA\, 02451\, United States
CATEGORIES:Open House/Group Tours
END:VEVENT
END:VCALENDAR