BEGIN:VCALENDAR
VERSION:2.0
PRODID:-//Milestones Day School &amp; Transitions Program - ECPv6.15.20//NONSGML v1.0//EN
CALSCALE:GREGORIAN
METHOD:PUBLISH
X-WR-CALNAME:Milestones Day School &amp; Transitions Program
X-ORIGINAL-URL:https://advancingmilestones.com
X-WR-CALDESC:Events for Milestones Day School &amp; Transitions Program
REFRESH-INTERVAL;VALUE=DURATION:PT1H
X-Robots-Tag:noindex
X-PUBLISHED-TTL:PT1H
BEGIN:VTIMEZONE
TZID:America/New_York
BEGIN:DAYLIGHT
TZOFFSETFROM:-0500
TZOFFSETTO:-0400
TZNAME:EDT
DTSTART:20240310T070000
END:DAYLIGHT
BEGIN:STANDARD
TZOFFSETFROM:-0400
TZOFFSETTO:-0500
TZNAME:EST
DTSTART:20241103T060000
END:STANDARD
BEGIN:DAYLIGHT
TZOFFSETFROM:-0500
TZOFFSETTO:-0400
TZNAME:EDT
DTSTART:20250309T070000
END:DAYLIGHT
BEGIN:STANDARD
TZOFFSETFROM:-0400
TZOFFSETTO:-0500
TZNAME:EST
DTSTART:20251102T060000
END:STANDARD
BEGIN:DAYLIGHT
TZOFFSETFROM:-0500
TZOFFSETTO:-0400
TZNAME:EDT
DTSTART:20260308T070000
END:DAYLIGHT
BEGIN:STANDARD
TZOFFSETFROM:-0400
TZOFFSETTO:-0500
TZNAME:EST
DTSTART:20261101T060000
END:STANDARD
END:VTIMEZONE
BEGIN:VEVENT
DTSTART;TZID=America/New_York:20250509T100000
DTEND;TZID=America/New_York:20250509T113000
DTSTAMP:20260423T040232
CREATED:20250102T144557Z
LAST-MODIFIED:20250502T183145Z
UID:63360-1746784800-1746790200@advancingmilestones.com
SUMMARY:Onsite Group Information Session and Tour - this tour is at capacity
DESCRIPTION:THIS TOUR IS AT CAPACITY.  FOR YOUR CONVENIENCE WE HAVE ADDED ADDITIONAL TOURS. \nPLEASE DO NOT REGISTER FOR THIS TOUR \nPlease secure your attendance by completing this form: \nMilestones Group Tour/Information Session Registration Form \nInformational tours are open to anyone looking \nto learn more about Milestones. \n*Tours are not intended for students* \n10-10:15am: Introductions \n10:15-11 am: General program overview / Q & A  \n11 am-11:30 am: Tour of facility \nMilestones is located at 410 Totten Pond Road Waltham\, MA 02451 \nBuilding #410 (This is an office Park\, not a typical school building) \nPlease proceed to our lobby on the second floor \nWe look forward to your visit – if not at this tour\, the next!
URL:https://advancingmilestones.com/event/onsite-group-information-session-and-tour-8/
LOCATION:Milestones School\, 410 Totten Pond Road\, Floor 2\, Waltham\, MA\, 02451\, United States
CATEGORIES:Event
END:VEVENT
BEGIN:VEVENT
DTSTART;TZID=America/New_York:20250519T100000
DTEND;TZID=America/New_York:20250519T113000
DTSTAMP:20260423T040232
CREATED:20250502T183426Z
LAST-MODIFIED:20250502T183427Z
UID:63572-1747648800-1747654200@advancingmilestones.com
SUMMARY:Onsite Group Information Session and Tour
DESCRIPTION:Please secure your attendance by completing this form: \nMilestones Group Tour/Information Session Registration Form \nInformational tours are open to anyone looking \nto learn more about Milestones. \n*Tours are not intended for students* \n10-10:15am: Introductions \n10:15-11 am: General program overview / Q & A  \n11 am-11:30 am: Tour of facility \nMilestones is located at 410 Totten Pond Road Waltham\, MA 02451 \nBuilding #410 (This is an office Park\, not a typical school building) \nPlease proceed to our lobby on the second floor \nWe look forward to your visit – if not at this tour\, the next!
URL:https://advancingmilestones.com/event/onsite-group-information-session-and-tour-10/
LOCATION:Milestones School\, 410 Totten Pond Road\, Floor 2\, Waltham\, MA\, 02451\, United States
END:VEVENT
END:VCALENDAR